BEGIN:VCALENDAR
VERSION:2.0
PRODID:-//Liverpool Speakers Club - ECPv6.15.20//NONSGML v1.0//EN
CALSCALE:GREGORIAN
METHOD:PUBLISH
X-ORIGINAL-URL:https://liverpoolspeakers.com
X-WR-CALDESC:Events for Liverpool Speakers Club
REFRESH-INTERVAL;VALUE=DURATION:PT1H
X-Robots-Tag:noindex
X-PUBLISHED-TTL:PT1H
BEGIN:VTIMEZONE
TZID:UTC
BEGIN:STANDARD
TZOFFSETFROM:+0000
TZOFFSETTO:+0000
TZNAME:UTC
DTSTART:20240101T000000
END:STANDARD
END:VTIMEZONE
BEGIN:VEVENT
DTSTART;TZID=UTC:20250212T193000
DTEND;TZID=UTC:20250212T220000
DTSTAMP:20260422T004611
CREATED:20250105T114847Z
LAST-MODIFIED:20250105T114847Z
UID:4379-1739388600-1739397600@liverpoolspeakers.com
SUMMARY:February Meeting
DESCRIPTION:Share this:Share\n				Share on Facebook (Opens in new window)\n				Facebook\n			\n				Share on X (Opens in new window)\n				X
URL:https://liverpoolspeakers.com/meeting/february-meeting-5/
END:VEVENT
END:VCALENDAR